BEGIN:VCALENDAR
VERSION:2.0
PRODID:-//Gullholmen.se - ECPv6.15.20//NONSGML v1.0//EN
CALSCALE:GREGORIAN
METHOD:PUBLISH
X-WR-CALNAME:Gullholmen.se
X-ORIGINAL-URL:https://www.gullholmen.info
X-WR-CALDESC:Händelser för Gullholmen.se
REFRESH-INTERVAL;VALUE=DURATION:PT1H
X-Robots-Tag:noindex
X-PUBLISHED-TTL:PT1H
BEGIN:VTIMEZONE
TZID:Europe/Stockholm
BEGIN:DAYLIGHT
TZOFFSETFROM:+0100
TZOFFSETTO:+0200
TZNAME:CEST
DTSTART:20250330T010000
END:DAYLIGHT
BEGIN:STANDARD
TZOFFSETFROM:+0200
TZOFFSETTO:+0100
TZNAME:CET
DTSTART:20251026T010000
END:STANDARD
BEGIN:DAYLIGHT
TZOFFSETFROM:+0100
TZOFFSETTO:+0200
TZNAME:CEST
DTSTART:20260329T010000
END:DAYLIGHT
BEGIN:STANDARD
TZOFFSETFROM:+0200
TZOFFSETTO:+0100
TZNAME:CET
DTSTART:20261025T010000
END:STANDARD
BEGIN:DAYLIGHT
TZOFFSETFROM:+0100
TZOFFSETTO:+0200
TZNAME:CEST
DTSTART:20270328T010000
END:DAYLIGHT
BEGIN:STANDARD
TZOFFSETFROM:+0200
TZOFFSETTO:+0100
TZNAME:CET
DTSTART:20271031T010000
END:STANDARD
END:VTIMEZONE
BEGIN:VEVENT
DTSTART;TZID=Europe/Stockholm:20260509T104000
DTEND;TZID=Europe/Stockholm:20260509T160000
DTSTAMP:20260425T173724
CREATED:20260225T140606Z
LAST-MODIFIED:20260225T165634Z
UID:9280-1778323200-1778342400@www.gullholmen.info
SUMMARY:Blomstervandring - Gullvivor
DESCRIPTION:GULLVIVOR\nDu kan välja mellan en längre och snabbare vandring till Härmanö Huvud\, ca 7 timmar eller en kortare tur över ängarna till Härmanös västsida och österut till Myren\, runt 5 timmar.\nPå turen till Härmanö Huvud berättas om natur och kultur och där ses vida utsikter. Turen mot västsidan bjuder på rik blomning\, fågelsång\, bäverspår och intressant geologi. Safsan på båda turerna.\nVi tror att gullvivorna lyser på ängarna.\nDetaljerat program\, se Blomstervandringar – Gullholmen.se
URL:https://www.gullholmen.info/event/blomstervandring-gullvivor/
END:VEVENT
BEGIN:VEVENT
DTSTART;TZID=Europe/Stockholm:20260614T104000
DTEND;TZID=Europe/Stockholm:20260614T160000
DTSTAMP:20260425T173724
CREATED:20260225T165555Z
LAST-MODIFIED:20260225T165555Z
UID:9300-1781433600-1781452800@www.gullholmen.info
SUMMARY:Blomstervandring - De vilda blommornas dag
DESCRIPTION:De vilda blommornas dag\nVi går söderut över ängarna mot Härmanös västsida\, vidare över bergen österut till Myren. Första sträckan är lämplig för rullstol eller barnvagn och man kan lätt komma tillbaka till samhället. Vår vandring bjuder på mycket rik försommarblomning\, fågelsång\, strandklippor\, safsan och bäverspår\nHitta detaljerad info på: Blomstervandringar – Gullholmen.se
URL:https://www.gullholmen.info/event/blomstervandring-de-vilda-blommornas-dag/
END:VEVENT
BEGIN:VEVENT
DTSTART;TZID=Europe/Stockholm:20260704T150000
DTEND;TZID=Europe/Stockholm:20260704T170000
DTSTAMP:20260425T173724
CREATED:20260320T094457Z
LAST-MODIFIED:20260320T094457Z
UID:9366-1783177200-1783184400@www.gullholmen.info
SUMMARY:Årstämma Gullholmens Samfällighetsförening
DESCRIPTION:Stämman 2026 kommer hållas lördagen den 4 juli.\nMotioner ska vara styrelsen tillhanda senast den 16 maj.
URL:https://www.gullholmen.info/event/arstamma-gullholmens-samfallighetsforening/
END:VEVENT
BEGIN:VEVENT
DTSTART;TZID=Europe/Stockholm:20260729T080000
DTEND;TZID=Europe/Stockholm:20260729T170000
DTSTAMP:20260425T173724
CREATED:20260225T170247Z
LAST-MODIFIED:20260225T170348Z
UID:9306-1785312000-1785344400@www.gullholmen.info
SUMMARY:Hermanövarvet
DESCRIPTION:Hermanövarvet\nLördag 25 juli 2026 smäller vi av startskottet för västkustens gulligaste 10 km lopp OCH västkustens gulligaste traillopp! Med start på Hamntorget på Gullholmens centrum och mål på Mor Johannas äng går båda loppen på natursköna banor runt Hermanö.\nMer info på Hermanövarvet – Västkustens gulligaste sommarlopp
URL:https://www.gullholmen.info/event/hermanovarvet/
END:VEVENT
BEGIN:VEVENT
DTSTART;TZID=Europe/Stockholm:20260801T080000
DTEND;TZID=Europe/Stockholm:20260809T170000
DTSTAMP:20260425T173724
CREATED:20260225T131256Z
LAST-MODIFIED:20260225T131829Z
UID:9257-1785571200-1786294800@www.gullholmen.info
SUMMARY:Västerhavsveckan
DESCRIPTION:Västerhavsveckan\, som är en temavecka för havsmiljön med aktiviteter som kan engagera och locka alla åldrar\, utspelar sig 1-9 augusti 2026 och har ett varierat program på Gullholmen: Västerhavsveckan 2026 – Gullholmen.se \nVästerhavsveckan arrangeras varje år sedan 2008 av VGR:s miljönämnd – sedan 2022 av miljö- och regionutvecklingsnämnden – tillsammans med forskningsinstitut\, kommuner\, organisationer\, företag och andra medaktörer.
URL:https://www.gullholmen.info/event/vasterhavsveckan/
END:VEVENT
BEGIN:VEVENT
DTSTART;TZID=Europe/Stockholm:20260809T104000
DTEND;TZID=Europe/Stockholm:20260809T160000
DTSTAMP:20260425T173724
CREATED:20260225T170054Z
LAST-MODIFIED:20260225T170054Z
UID:9304-1786272000-1786291200@www.gullholmen.info
SUMMARY:Blomstervandring - Ljungen blommar
DESCRIPTION:Ljungen blommar\nDu kan välja mellan en längre och snabbare vandring till Härmanö Huvud\, ca 7 timmar eller en kortare tur över ängarna till Härmanös västsida och österut till\nMyren\, runt 5 timmar. Första delen av båda turerna är lämplig för rullstol eller barnvagn medan andra avsnitt är krävande. Man kan lätt återvända till samhället\nutan guide. Se till att ha bra skor och riklig matsäck med dryck.\nPå turen till Härmanö Huvud berättas om natur och kultur och där ses vida utsikter. Turen mot västsidan bjuder på rik sensommarblomning\, bäverspår och intressant geologi. Safsan kan ses på båda turerna.\nVi tror att ljungen färgar klipporna i violett.\nDetaljerad info på Blomstervandringar – Gullholmen.se
URL:https://www.gullholmen.info/event/blomstervandring-ljungen-blommar/
END:VEVENT
END:VCALENDAR